BEGIN:VCALENDAR
VERSION:2.0
PRODID:-//Tukios.com/
BEGIN:VEVENT
UID:4d226065-597c-42ab-b803-6587feb02114@www.mattsonfuneralhome.com
DTSTAMP:20260425T165033Z
DTSTART:20260505T150000Z
DTEND:20260505T160000Z
SUMMARY:Visitation
DESCRIPTION:
URL:https://www.mattsonfuneralhome.com/obituaries/robert-bob-linwood
LOCATION: 1250 S Shore Dr  Forest Lake MN 55025
GEO:45.2658214;-92.9746623
END:VEVENT
END:VCALENDAR