BEGIN:VCALENDAR
VERSION:2.0
PRODID:-//Tukios.com/
BEGIN:VEVENT
UID:97a53c4a-511a-4764-8096-86b51ce62fe6@www.mattsonfuneralhome.com
DTSTAMP:20260425T164517Z
DTSTART:20260505T160000Z
DTEND:20260505T170000Z
SUMMARY:Mass
DESCRIPTION:
URL:https://www.mattsonfuneralhome.com/obituaries/robert-bob-linwood
LOCATION:Church of Saint Peter 1250 South Shore Drive  Forest Lake MN 
	55025
GEO:45.2657533;-92.9743445
END:VEVENT
END:VCALENDAR