BEGIN:VCALENDAR
VERSION:2.0
PRODID:-//Tukios.com/
BEGIN:VEVENT
UID:cd21e7ac-f18d-4089-b4c0-d88a4d862ab2@www.mattsonfuneralhome.com
DTSTAMP:20260425T164813Z
DTSTART:20260504T220000Z
DTEND:20260505T000000Z
SUMMARY:Visitation
DESCRIPTION:
URL:https://www.mattsonfuneralhome.com/obituaries/robert-bob-linwood
LOCATION:Mattson Funeral Home 343 North Shore Drive  Forest Lake MN 55025
GEO:45.2827587;-92.9831998
END:VEVENT
END:VCALENDAR