BEGIN:VCALENDAR
VERSION:2.0
PRODID:-//Tukios.com/
BEGIN:VEVENT
UID:1b1a236c-bdd3-4936-a96a-1abe55f61923@www.mattsonfuneralhome.com
DTSTAMP:20260424T174218Z
DTSTART:20260709T190000Z
DTEND:20260709T191500Z
SUMMARY:Inurnment
DESCRIPTION:
URL:https://www.mattsonfuneralhome.com/obituaries/dr-ward-lewis
LOCATION: 7601 34th Ave S  Minneapolis MN 55450
GEO:44.864813;-93.2213733
END:VEVENT
END:VCALENDAR