BEGIN:VCALENDAR
VERSION:2.0
PRODID:-//Tukios.com/
BEGIN:VEVENT
UID:05a9ba41-4abc-403d-b7ee-52c705b29517@www.mattsonfuneralhome.com
DTSTAMP:20260424T174008Z
DTSTART:20260709T160000Z
DTEND:20260709T170000Z
SUMMARY:Celebration of Life
DESCRIPTION:
URL:https://www.mattsonfuneralhome.com/obituaries/dr-ward-lewis
LOCATION: 886 N Shore Dr  Forest Lake MN 55025
GEO:45.287983;-92.9801385
END:VEVENT
END:VCALENDAR