BEGIN:VCALENDAR
VERSION:2.0
PRODID:-//Tukios.com/
BEGIN:VEVENT
UID:5ad3081f-3cb2-4ad5-a713-e08a0e8dd705@www.mattsonfuneralhome.com
DTSTAMP:20260424T174528Z
DTSTART:20260709T150000Z
DTEND:20260709T160000Z
SUMMARY:Memorial Gathering
DESCRIPTION:
URL:https://www.mattsonfuneralhome.com/obituaries/dr-ward-lewis
LOCATION: 886 N Shore Dr  Forest Lake MN 55025
GEO:45.287983;-92.9801385
END:VEVENT
END:VCALENDAR