BEGIN:VCALENDAR
VERSION:2.0
PRODID:-//Tukios.com/
BEGIN:VEVENT
UID:07433404-49e3-489b-a0df-f730931a7763@www.mattsonfuneralhome.com
DTSTAMP:20260423T220719Z
DTSTART:20260606T150000Z
DTEND:20260606T160000Z
SUMMARY:Gathering
DESCRIPTION:
URL:https://www.mattsonfuneralhome.com/obituaries/david-e-olson
LOCATION: 20971 Olinda Trail N  Scandia MN 55073
GEO:45.252738;-92.806073
END:VEVENT
END:VCALENDAR