BEGIN:VCALENDAR
VERSION:2.0
PRODID:-//Tukios.com/
BEGIN:VEVENT
UID:f93ec4d4-ce62-45d9-9bcf-962e1af128f9@www.mattsonfuneralhome.com
DTSTAMP:20260423T221216Z
DTSTART:20260606T160000Z
DTEND:20260606T170000Z
SUMMARY:Memorial Service
DESCRIPTION:
URL:https://www.mattsonfuneralhome.com/obituaries/david-e-olson
LOCATION:Elim Lutheran Church 20971 Olinda Trail N  Scandia MN 55073
GEO:45.252738;-92.806073
END:VEVENT
END:VCALENDAR