BEGIN:VCALENDAR
VERSION:2.0
PRODID:-//Tukios.com/
BEGIN:VEVENT
UID:007443b2-d473-4d24-8ca5-e638f2160e08@www.mattsonfuneralhome.com
DTSTAMP:20260423T220754Z
DTSTART:20260605T210000Z
DTEND:20260605T230000Z
SUMMARY:Gathering
DESCRIPTION:
URL:https://www.mattsonfuneralhome.com/obituaries/david-e-olson
LOCATION:Mattson Funeral Home 343 North Shore Drive  Forest Lake MN 55025
GEO:45.2827587;-92.9831998
END:VEVENT
END:VCALENDAR