BEGIN:VCALENDAR
VERSION:2.0
PRODID:-//Tukios.com/
BEGIN:VEVENT
UID:a8b550f7-172b-4e12-b784-14d02e0e2c9c@www.mattsonfuneralhome.com
DTSTAMP:20260423T221217Z
DTSTART:20260605T200000Z
DTEND:20260605T203000Z
SUMMARY:Masonic Service
DESCRIPTION:
URL:https://www.mattsonfuneralhome.com/obituaries/david-e-olson
LOCATION:Mattson Funeral Home 343 North Shore Drive  Forest Lake MN 55025
GEO:45.2827587;-92.9831998
END:VEVENT
END:VCALENDAR